BEGIN:VCALENDAR
VERSION:2.0
PRODID:-//https://tantricdance.co.uk///NONSGML kigkonsult.se iCalcreator 2.10.15//
METHOD:PUBLISH
BEGIN:VEVENT
UID:20260419T151629UTC-4103Nx6dh5@https://tantricdance.co.uk/
DTSTAMP:20260419T151629Z
DESCRIPTION:Alleen toegankelijk voor TD Intimi leden.Zie intimi.tantricdanc
 e.nl voor meer info. https://tantricdance.co.uk/nl/agenda/td-intimi-ticket
 s/evenement/799-tantric-dance-intimi-utrecht-o-avond
DTSTART:20260419T170000Z
DTEND:20260419T203000Z
LOCATION:Community Overvloed (Arkansasdreef 20\, 3565 AR Utrecht)
SUMMARY:Tantric Dance INTIMI Utrecht • avond
URL:https://tantricdance.co.uk/nl/agenda/td-intimi-tickets/evenement/799-ta
 ntric-dance-intimi-utrecht-o-avond
END:VEVENT
BEGIN:VEVENT
UID:20260419T151629UTC-4105Ff3H0A@https://tantricdance.co.uk/
DTSTAMP:20260419T151629Z
DESCRIPTION:Alleen toegankelijk voor TD Intimi leden.Zie intimi.tantricdanc
 e.nl voor meer info. https://tantricdance.co.uk/nl/agenda/td-intimi-ticket
 s/evenement/800-tantric-dance-intimi-utrecht-o-avond
DTSTART:20260524T170000Z
DTEND:20260524T203000Z
LOCATION:Community Overvloed (Arkansasdreef 20\, 3565 AR Utrecht)
SUMMARY:Tantric Dance INTIMI Utrecht • avond
URL:https://tantricdance.co.uk/nl/agenda/td-intimi-tickets/evenement/800-ta
 ntric-dance-intimi-utrecht-o-avond
END:VEVENT
BEGIN:VEVENT
UID:20260419T151629UTC-41061u95ne@https://tantricdance.co.uk/
DTSTAMP:20260419T151629Z
DESCRIPTION:Alleen toegankelijk voor TD Intimi leden.Zie intimi.tantricdanc
 e.nl voor meer info. https://tantricdance.co.uk/nl/agenda/td-intimi-ticket
 s/evenement/801-tantric-dance-intimi-utrecht-o-avond
DTSTART:20260628T170000Z
DTEND:20260628T203000Z
LOCATION:Community Overvloed (Arkansasdreef 20\, 3565 AR Utrecht)
SUMMARY:Tantric Dance INTIMI Utrecht • avond
URL:https://tantricdance.co.uk/nl/agenda/td-intimi-tickets/evenement/801-ta
 ntric-dance-intimi-utrecht-o-avond
END:VEVENT
BEGIN:VEVENT
UID:20260419T151629UTC-4108xsVHuC@https://tantricdance.co.uk/
DTSTAMP:20260419T151629Z
DESCRIPTION:Alleen toegankelijk voor TD Intimi leden.Zie intimi.tantricdanc
 e.nl voor meer info. https://tantricdance.co.uk/nl/agenda/td-intimi-ticket
 s/evenement/808-tantric-dance-intimi-utrecht-o-middag
DTSTART:20260419T110000Z
DTEND:20260419T150000Z
LOCATION:Community Overvloed (Arkansasdreef 20\, 3565 AR Utrecht)
SUMMARY:Tantric Dance INTIMI Utrecht • middag
URL:https://tantricdance.co.uk/nl/agenda/td-intimi-tickets/evenement/808-ta
 ntric-dance-intimi-utrecht-o-middag
END:VEVENT
BEGIN:VEVENT
UID:20260419T151629UTC-4109KMC7KW@https://tantricdance.co.uk/
DTSTAMP:20260419T151629Z
DESCRIPTION:Alleen toegankelijk voor TD Intimi leden.Zie intimi.tantricdanc
 e.nl voor meer info. https://tantricdance.co.uk/nl/agenda/td-intimi-ticket
 s/evenement/809-tantric-dance-intimi-utrecht-o-middag
DTSTART:20260524T110000Z
DTEND:20260524T150000Z
LOCATION:Community Overvloed (Arkansasdreef 20\, 3565 AR Utrecht)
SUMMARY:Tantric Dance INTIMI Utrecht • middag
URL:https://tantricdance.co.uk/nl/agenda/td-intimi-tickets/evenement/809-ta
 ntric-dance-intimi-utrecht-o-middag
END:VEVENT
BEGIN:VEVENT
UID:20260419T151629UTC-4110GBf7N1@https://tantricdance.co.uk/
DTSTAMP:20260419T151629Z
DESCRIPTION:Alleen toegankelijk voor TD Intimi leden.Zie intimi.tantricdanc
 e.nl voor meer info. https://tantricdance.co.uk/nl/agenda/td-intimi-ticket
 s/evenement/810-tantric-dance-intimi-utrecht-o-middag
DTSTART:20260628T110000Z
DTEND:20260628T150000Z
LOCATION:Community Overvloed (Arkansasdreef 20\, 3565 AR Utrecht)
SUMMARY:Tantric Dance INTIMI Utrecht • middag
URL:https://tantricdance.co.uk/nl/agenda/td-intimi-tickets/evenement/810-ta
 ntric-dance-intimi-utrecht-o-middag
END:VEVENT
BEGIN:VEVENT
UID:20260419T151629UTC-4111S7kXdg@https://tantricdance.co.uk/
DTSTAMP:20260419T151629Z
DESCRIPTION:Exclusief toegankelijk voor TD INTIMI vrienden.\n19:00 ~ OPEN (
 19:30 deur DICHT!)19:30 ~ Start &amp\; in dansen20:00 ~ Vrij dansen22:30 ~
  Einde\nZie intimi.tantricdance.nl voor meer info. https://tantricdance.co
 .uk/nl/agenda/td-intimi-tickets/evenement/938-tantric-dance-intimi-utrecht
 -vriendenavond
DTSTART:20260508T173000Z
DTEND:20260508T203000Z
LOCATION:Community Overvloed (Arkansasdreef 20\, 3565 AR Utrecht)
SUMMARY:Tantric Dance INTIMI Utrecht vriendenavond
URL:https://tantricdance.co.uk/nl/agenda/td-intimi-tickets/evenement/938-ta
 ntric-dance-intimi-utrecht-vriendenavond
END:VEVENT
BEGIN:VEVENT
UID:20260419T151629UTC-4113S08eWI@https://tantricdance.co.uk/
DTSTAMP:20260419T151629Z
DESCRIPTION:Exclusief toegankelijk voor wie persoonlijk is uitgenodigd.\n18
 :00 ~ Potluck19:30 ~ Start &amp\; in dansen&nbsp\;(20:00 deur DICHT!)20:00
  ~ Vrij dansen22:30 ~ Einde https://tantricdance.co.uk/nl/agenda/td-intimi
 -tickets/evenement/939-tantric-dance-intimi-reuenie
DTSTART:20260612T173000Z
DTEND:20260612T203000Z
LOCATION:Community Overvloed (Arkansasdreef 20\, 3565 AR Utrecht)
SUMMARY:Tantric Dance INTIMI REÜNIE
URL:https://tantricdance.co.uk/nl/agenda/td-intimi-tickets/evenement/939-ta
 ntric-dance-intimi-reuenie
END:VEVENT
BEGIN:VEVENT
UID:20260419T151629UTC-41144wzp9k@https://tantricdance.co.uk/
DTSTAMP:20260419T151629Z
DESCRIPTION:Alleen toegankelijk voor TD Intimi leden.Zie intimi.tantricdanc
 e.nl voor meer info. https://tantricdance.co.uk/nl/agenda/td-intimi-ticket
 s/evenement/941-tantric-dance-intimi-utrecht-o-middag
DTSTART:20260927T110000Z
DTEND:20260927T150000Z
LOCATION:Community Overvloed (Arkansasdreef 20\, 3565 AR Utrecht)
SUMMARY:Tantric Dance INTIMI Utrecht • middag
URL:https://tantricdance.co.uk/nl/agenda/td-intimi-tickets/evenement/941-ta
 ntric-dance-intimi-utrecht-o-middag
END:VEVENT
BEGIN:VEVENT
UID:20260419T151629UTC-41156wmDHi@https://tantricdance.co.uk/
DTSTAMP:20260419T151629Z
DESCRIPTION:Alleen toegankelijk voor TD Intimi leden.Zie intimi.tantricdanc
 e.nl voor meer info. https://tantricdance.co.uk/nl/agenda/td-intimi-ticket
 s/evenement/942-tantric-dance-intimi-utrecht-new
DTSTART:20260906T110000Z
DTEND:20260906T150000Z
LOCATION:Community Overvloed (Arkansasdreef 20\, 3565 AR Utrecht)
SUMMARY:Tantric Dance INTIMI Utrecht NEW
URL:https://tantricdance.co.uk/nl/agenda/td-intimi-tickets/evenement/942-ta
 ntric-dance-intimi-utrecht-new
END:VEVENT
BEGIN:VEVENT
UID:20260419T151629UTC-4116GUhuuH@https://tantricdance.co.uk/
DTSTAMP:20260419T151629Z
DESCRIPTION:Alleen toegankelijk voor TD Intimi leden.Zie intimi.tantricdanc
 e.nl voor meer info. https://tantricdance.co.uk/nl/agenda/td-intimi-ticket
 s/evenement/943-tantric-dance-intimi-utrecht-new
DTSTART:20261004T110000Z
DTEND:20261004T150000Z
LOCATION:Community Overvloed (Arkansasdreef 20\, 3565 AR Utrecht)
SUMMARY:Tantric Dance INTIMI Utrecht NEW
URL:https://tantricdance.co.uk/nl/agenda/td-intimi-tickets/evenement/943-ta
 ntric-dance-intimi-utrecht-new
END:VEVENT
BEGIN:VEVENT
UID:20260419T151629UTC-4118Urxdvw@https://tantricdance.co.uk/
DTSTAMP:20260419T151629Z
DESCRIPTION:Alleen toegankelijk voor TD Intimi leden.Zie intimi.tantricdanc
 e.nl voor meer info. https://tantricdance.co.uk/nl/agenda/td-intimi-ticket
 s/evenement/944-tantric-dance-intimi-utrecht-new
DTSTART:20261108T120000Z
DTEND:20261108T160000Z
LOCATION:Community Overvloed (Arkansasdreef 20\, 3565 AR Utrecht)
SUMMARY:Tantric Dance INTIMI Utrecht NEW
URL:https://tantricdance.co.uk/nl/agenda/td-intimi-tickets/evenement/944-ta
 ntric-dance-intimi-utrecht-new
END:VEVENT
BEGIN:VEVENT
UID:20260419T151629UTC-41191jPumn@https://tantricdance.co.uk/
DTSTAMP:20260419T151629Z
DESCRIPTION:Alleen toegankelijk voor TD Intimi leden.Zie intimi.tantricdanc
 e.nl voor meer info. https://tantricdance.co.uk/nl/agenda/td-intimi-ticket
 s/evenement/945-tantric-dance-intimi-utrecht-new
DTSTART:20261206T120000Z
DTEND:20261206T160000Z
LOCATION:Community Overvloed (Arkansasdreef 20\, 3565 AR Utrecht)
SUMMARY:Tantric Dance INTIMI Utrecht NEW
URL:https://tantricdance.co.uk/nl/agenda/td-intimi-tickets/evenement/945-ta
 ntric-dance-intimi-utrecht-new
END:VEVENT
BEGIN:VEVENT
UID:20260419T151629UTC-4120r1mPou@https://tantricdance.co.uk/
DTSTAMP:20260419T151629Z
DESCRIPTION:Alleen toegankelijk voor TD Intimi leden.Zie intimi.tantricdanc
 e.nl voor meer info. https://tantricdance.co.uk/nl/agenda/td-intimi-ticket
 s/evenement/946-tantric-dance-intimi-utrecht-new
DTSTART:20270110T120000Z
DTEND:20270110T160000Z
LOCATION:Community Overvloed (Arkansasdreef 20\, 3565 AR Utrecht)
SUMMARY:Tantric Dance INTIMI Utrecht NEW
URL:https://tantricdance.co.uk/nl/agenda/td-intimi-tickets/evenement/946-ta
 ntric-dance-intimi-utrecht-new
END:VEVENT
BEGIN:VEVENT
UID:20260419T151629UTC-4121PLolU5@https://tantricdance.co.uk/
DTSTAMP:20260419T151629Z
DESCRIPTION:Alleen toegankelijk voor TD Intimi leden.Zie intimi.tantricdanc
 e.nl voor meer info. https://tantricdance.co.uk/nl/agenda/td-intimi-ticket
 s/evenement/947-tantric-dance-intimi-utrecht-new
DTSTART:20270207T120000Z
DTEND:20270207T160000Z
LOCATION:Community Overvloed (Arkansasdreef 20\, 3565 AR Utrecht)
SUMMARY:Tantric Dance INTIMI Utrecht NEW
URL:https://tantricdance.co.uk/nl/agenda/td-intimi-tickets/evenement/947-ta
 ntric-dance-intimi-utrecht-new
END:VEVENT
BEGIN:VEVENT
UID:20260419T151629UTC-4122vPxjCI@https://tantricdance.co.uk/
DTSTAMP:20260419T151629Z
DESCRIPTION:Alleen toegankelijk voor TD Intimi leden.Zie intimi.tantricdanc
 e.nl voor meer info. https://tantricdance.co.uk/nl/agenda/td-intimi-ticket
 s/evenement/948-tantric-dance-intimi-utrecht-new
DTSTART:20270307T120000Z
DTEND:20270307T160000Z
LOCATION:Community Overvloed (Arkansasdreef 20\, 3565 AR Utrecht)
SUMMARY:Tantric Dance INTIMI Utrecht NEW
URL:https://tantricdance.co.uk/nl/agenda/td-intimi-tickets/evenement/948-ta
 ntric-dance-intimi-utrecht-new
END:VEVENT
BEGIN:VEVENT
UID:20260419T151629UTC-4123cv2JbJ@https://tantricdance.co.uk/
DTSTAMP:20260419T151629Z
DESCRIPTION:Alleen toegankelijk voor TD Intimi leden.Zie intimi.tantricdanc
 e.nl voor meer info. https://tantricdance.co.uk/nl/agenda/td-intimi-ticket
 s/evenement/949-tantric-dance-intimi-utrecht-new
DTSTART:20270404T110000Z
DTEND:20270404T150000Z
LOCATION:Community Overvloed (Arkansasdreef 20\, 3565 AR Utrecht)
SUMMARY:Tantric Dance INTIMI Utrecht NEW
URL:https://tantricdance.co.uk/nl/agenda/td-intimi-tickets/evenement/949-ta
 ntric-dance-intimi-utrecht-new
END:VEVENT
BEGIN:VEVENT
UID:20260419T151629UTC-4124G2XEmF@https://tantricdance.co.uk/
DTSTAMP:20260419T151629Z
DESCRIPTION:Alleen toegankelijk voor TD Intimi leden.Zie intimi.tantricdanc
 e.nl voor meer info. https://tantricdance.co.uk/nl/agenda/td-intimi-ticket
 s/evenement/950-tantric-dance-intimi-utrecht-new
DTSTART:20270509T110000Z
DTEND:20270509T150000Z
LOCATION:Community Overvloed (Arkansasdreef 20\, 3565 AR Utrecht)
SUMMARY:Tantric Dance INTIMI Utrecht NEW
URL:https://tantricdance.co.uk/nl/agenda/td-intimi-tickets/evenement/950-ta
 ntric-dance-intimi-utrecht-new
END:VEVENT
BEGIN:VEVENT
UID:20260419T151629UTC-4126mpv0Kv@https://tantricdance.co.uk/
DTSTAMP:20260419T151629Z
DESCRIPTION:Alleen toegankelijk voor TD Intimi leden.Zie intimi.tantricdanc
 e.nl voor meer info. https://tantricdance.co.uk/nl/agenda/td-intimi-ticket
 s/evenement/951-tantric-dance-intimi-utrecht-new
DTSTART:20270606T110000Z
DTEND:20270606T150000Z
LOCATION:Community Overvloed (Arkansasdreef 20\, 3565 AR Utrecht)
SUMMARY:Tantric Dance INTIMI Utrecht NEW
URL:https://tantricdance.co.uk/nl/agenda/td-intimi-tickets/evenement/951-ta
 ntric-dance-intimi-utrecht-new
END:VEVENT
BEGIN:VEVENT
UID:20260419T151629UTC-4127Sv0M6L@https://tantricdance.co.uk/
DTSTAMP:20260419T151629Z
DESCRIPTION:Alleen toegankelijk voor TD Intimi leden.Zie intimi.tantricdanc
 e.nl voor meer info. https://tantricdance.co.uk/nl/agenda/td-intimi-ticket
 s/evenement/952-tantric-dance-intimi-utrecht-o-middag
DTSTART:20261025T120000Z
DTEND:20261025T160000Z
LOCATION:Community Overvloed (Arkansasdreef 20\, 3565 AR Utrecht)
SUMMARY:Tantric Dance INTIMI Utrecht • middag
URL:https://tantricdance.co.uk/nl/agenda/td-intimi-tickets/evenement/952-ta
 ntric-dance-intimi-utrecht-o-middag
END:VEVENT
BEGIN:VEVENT
UID:20260419T151629UTC-4128GrDGfn@https://tantricdance.co.uk/
DTSTAMP:20260419T151629Z
DESCRIPTION:Alleen toegankelijk voor TD Intimi leden.Zie intimi.tantricdanc
 e.nl voor meer info. https://tantricdance.co.uk/nl/agenda/td-intimi-ticket
 s/evenement/953-tantric-dance-intimi-utrecht-o-middag
DTSTART:20261122T120000Z
DTEND:20261122T160000Z
LOCATION:Community Overvloed (Arkansasdreef 20\, 3565 AR Utrecht)
SUMMARY:Tantric Dance INTIMI Utrecht • middag
URL:https://tantricdance.co.uk/nl/agenda/td-intimi-tickets/evenement/953-ta
 ntric-dance-intimi-utrecht-o-middag
END:VEVENT
BEGIN:VEVENT
UID:20260419T151629UTC-4129OsdrvG@https://tantricdance.co.uk/
DTSTAMP:20260419T151629Z
DESCRIPTION:Alleen toegankelijk voor TD Intimi leden.Zie intimi.tantricdanc
 e.nl voor meer info. https://tantricdance.co.uk/nl/agenda/td-intimi-ticket
 s/evenement/954-tantric-dance-intimi-utrecht-o-middag
DTSTART:20261220T120000Z
DTEND:20261220T160000Z
LOCATION:Community Overvloed (Arkansasdreef 20\, 3565 AR Utrecht)
SUMMARY:Tantric Dance INTIMI Utrecht • middag
URL:https://tantricdance.co.uk/nl/agenda/td-intimi-tickets/evenement/954-ta
 ntric-dance-intimi-utrecht-o-middag
END:VEVENT
BEGIN:VEVENT
UID:20260419T151629UTC-4130cUOxDD@https://tantricdance.co.uk/
DTSTAMP:20260419T151629Z
DESCRIPTION:Alleen toegankelijk voor TD Intimi leden.Zie intimi.tantricdanc
 e.nl voor meer info. https://tantricdance.co.uk/nl/agenda/td-intimi-ticket
 s/evenement/955-tantric-dance-intimi-utrecht-o-middag
DTSTART:20270124T120000Z
DTEND:20270124T160000Z
LOCATION:Community Overvloed (Arkansasdreef 20\, 3565 AR Utrecht)
SUMMARY:Tantric Dance INTIMI Utrecht • middag
URL:https://tantricdance.co.uk/nl/agenda/td-intimi-tickets/evenement/955-ta
 ntric-dance-intimi-utrecht-o-middag
END:VEVENT
BEGIN:VEVENT
UID:20260419T151629UTC-4132J0WOzi@https://tantricdance.co.uk/
DTSTAMP:20260419T151629Z
DESCRIPTION:Alleen toegankelijk voor TD Intimi leden.Zie intimi.tantricdanc
 e.nl voor meer info. https://tantricdance.co.uk/nl/agenda/td-intimi-ticket
 s/evenement/956-tantric-dance-intimi-utrecht-o-middag
DTSTART:20270228T120000Z
DTEND:20270228T160000Z
LOCATION:Community Overvloed (Arkansasdreef 20\, 3565 AR Utrecht)
SUMMARY:Tantric Dance INTIMI Utrecht • middag
URL:https://tantricdance.co.uk/nl/agenda/td-intimi-tickets/evenement/956-ta
 ntric-dance-intimi-utrecht-o-middag
END:VEVENT
BEGIN:VEVENT
UID:20260419T151629UTC-4133VUvwKr@https://tantricdance.co.uk/
DTSTAMP:20260419T151629Z
DESCRIPTION:Alleen toegankelijk voor TD Intimi leden.Zie intimi.tantricdanc
 e.nl voor meer info. https://tantricdance.co.uk/nl/agenda/td-intimi-ticket
 s/evenement/957-tantric-dance-intimi-utrecht-o-middag
DTSTART:20270321T120000Z
DTEND:20270321T160000Z
LOCATION:Community Overvloed (Arkansasdreef 20\, 3565 AR Utrecht)
SUMMARY:Tantric Dance INTIMI Utrecht • middag
URL:https://tantricdance.co.uk/nl/agenda/td-intimi-tickets/evenement/957-ta
 ntric-dance-intimi-utrecht-o-middag
END:VEVENT
BEGIN:VEVENT
UID:20260419T151629UTC-4134TAUBhv@https://tantricdance.co.uk/
DTSTAMP:20260419T151629Z
DESCRIPTION:Alleen toegankelijk voor TD Intimi leden.Zie intimi.tantricdanc
 e.nl voor meer info. https://tantricdance.co.uk/nl/agenda/td-intimi-ticket
 s/evenement/958-tantric-dance-intimi-utrecht-o-middag
DTSTART:20270418T110000Z
DTEND:20270418T150000Z
LOCATION:Community Overvloed (Arkansasdreef 20\, 3565 AR Utrecht)
SUMMARY:Tantric Dance INTIMI Utrecht • middag
URL:https://tantricdance.co.uk/nl/agenda/td-intimi-tickets/evenement/958-ta
 ntric-dance-intimi-utrecht-o-middag
END:VEVENT
BEGIN:VEVENT
UID:20260419T151629UTC-4135Xfolx5@https://tantricdance.co.uk/
DTSTAMP:20260419T151629Z
DESCRIPTION:Alleen toegankelijk voor TD Intimi leden.Zie intimi.tantricdanc
 e.nl voor meer info. https://tantricdance.co.uk/nl/agenda/td-intimi-ticket
 s/evenement/959-tantric-dance-intimi-utrecht-o-middag
DTSTART:20270530T110000Z
DTEND:20270530T150000Z
LOCATION:Community Overvloed (Arkansasdreef 20\, 3565 AR Utrecht)
SUMMARY:Tantric Dance INTIMI Utrecht • middag
URL:https://tantricdance.co.uk/nl/agenda/td-intimi-tickets/evenement/959-ta
 ntric-dance-intimi-utrecht-o-middag
END:VEVENT
BEGIN:VEVENT
UID:20260419T151629UTC-4136R3zMNR@https://tantricdance.co.uk/
DTSTAMP:20260419T151629Z
DESCRIPTION:Alleen toegankelijk voor TD Intimi leden.Zie intimi.tantricdanc
 e.nl voor meer info. https://tantricdance.co.uk/nl/agenda/td-intimi-ticket
 s/evenement/960-tantric-dance-intimi-utrecht-o-middag
DTSTART:20270627T110000Z
DTEND:20270627T150000Z
LOCATION:Community Overvloed (Arkansasdreef 20\, 3565 AR Utrecht)
SUMMARY:Tantric Dance INTIMI Utrecht • middag
URL:https://tantricdance.co.uk/nl/agenda/td-intimi-tickets/evenement/960-ta
 ntric-dance-intimi-utrecht-o-middag
END:VEVENT
BEGIN:VEVENT
UID:20260419T151629UTC-4137a1CP2v@https://tantricdance.co.uk/
DTSTAMP:20260419T151629Z
DESCRIPTION:Exclusief toegankelijk voor TD INTIMI vrienden.\n19:00 ~ OPEN (
 19:30 deur DICHT!)19:30 ~ Start &amp\; in dansen20:00 ~ Vrij dansen22:30 ~
  Einde\nZie intimi.tantricdance.nl voor meer info. https://tantricdance.co
 .uk/nl/agenda/td-intimi-tickets/evenement/961-tantric-dance-intimi-utrecht
 -vriendenavond
DTSTART:20261002T173000Z
DTEND:20261002T203000Z
LOCATION:Community Overvloed (Arkansasdreef 20\, 3565 AR Utrecht)
SUMMARY:Tantric Dance INTIMI Utrecht vriendenavond
URL:https://tantricdance.co.uk/nl/agenda/td-intimi-tickets/evenement/961-ta
 ntric-dance-intimi-utrecht-vriendenavond
END:VEVENT
BEGIN:VEVENT
UID:20260419T151629UTC-4139gFzVxd@https://tantricdance.co.uk/
DTSTAMP:20260419T151629Z
DESCRIPTION:Exclusief&nbsp\;toegankelijk voor TD INTIMI vrienden.\n19:00 ~ 
 OPEN (19:30 deur DICHT!)19:30 ~ Start &amp\; in dansen20:00 ~ Vrij dansen2
 2:30 ~ Einde\nZie intimi.tantricdance.nl voor meer info. https://tantricda
 nce.co.uk/nl/agenda/td-intimi-tickets/evenement/970-tantric-dance-intimi-u
 trecht-vriendenavond
DTSTART:20261113T183000Z
DTEND:20261113T213000Z
LOCATION:Community Overvloed (Arkansasdreef 20\, 3565 AR Utrecht)
SUMMARY:Tantric Dance INTIMI Utrecht vriendenavond
URL:https://tantricdance.co.uk/nl/agenda/td-intimi-tickets/evenement/970-ta
 ntric-dance-intimi-utrecht-vriendenavond
END:VEVENT
BEGIN:VEVENT
UID:20260419T151629UTC-414017o1lm@https://tantricdance.co.uk/
DTSTAMP:20260419T151629Z
DESCRIPTION:Exclusief&nbsp\;toegankelijk voor TD INTIMI vrienden.\n19:00 ~ 
 OPEN (19:30 deur DICHT!)19:30 ~ Start &amp\; in dansen20:00 ~ Vrij dansen2
 2:30 ~ Einde\nZie intimi.tantricdance.nl voor meer info. https://tantricda
 nce.co.uk/nl/agenda/td-intimi-tickets/evenement/971-tantric-dance-intimi-u
 trecht-vriendenavond
DTSTART:20261211T183000Z
DTEND:20261211T213000Z
LOCATION:Community Overvloed (Arkansasdreef 20\, 3565 AR Utrecht)
SUMMARY:Tantric Dance INTIMI Utrecht vriendenavond
URL:https://tantricdance.co.uk/nl/agenda/td-intimi-tickets/evenement/971-ta
 ntric-dance-intimi-utrecht-vriendenavond
END:VEVENT
BEGIN:VEVENT
UID:20260419T151629UTC-4141xeMuCc@https://tantricdance.co.uk/
DTSTAMP:20260419T151629Z
DESCRIPTION:Exclusief&nbsp\;toegankelijk voor TD INTIMI vrienden.\n19:00 ~ 
 OPEN (19:30 deur DICHT!)19:30 ~ Start &amp\; in dansen20:00 ~ Vrij dansen2
 2:30 ~ Einde\nZie intimi.tantricdance.nl voor meer info. https://tantricda
 nce.co.uk/nl/agenda/td-intimi-tickets/evenement/972-tantric-dance-intimi-u
 trecht-vriendenavond
DTSTART:20270108T183000Z
DTEND:20270108T213000Z
LOCATION:Community Overvloed (Arkansasdreef 20\, 3565 AR Utrecht)
SUMMARY:Tantric Dance INTIMI Utrecht vriendenavond
URL:https://tantricdance.co.uk/nl/agenda/td-intimi-tickets/evenement/972-ta
 ntric-dance-intimi-utrecht-vriendenavond
END:VEVENT
BEGIN:VEVENT
UID:20260419T151629UTC-4143Cd8BUg@https://tantricdance.co.uk/
DTSTAMP:20260419T151629Z
DESCRIPTION:Exclusief&nbsp\;toegankelijk voor TD INTIMI vrienden.\n19:00 ~ 
 OPEN (19:30 deur DICHT!)19:30 ~ Start &amp\; in dansen20:00 ~ Vrij dansen2
 2:30 ~ Einde\nZie intimi.tantricdance.nl voor meer info. https://tantricda
 nce.co.uk/nl/agenda/td-intimi-tickets/evenement/973-tantric-dance-intimi-u
 trecht-vriendenavond
DTSTART:20270212T183000Z
DTEND:20270212T213000Z
LOCATION:Community Overvloed (Arkansasdreef 20\, 3565 AR Utrecht)
SUMMARY:Tantric Dance INTIMI Utrecht vriendenavond
URL:https://tantricdance.co.uk/nl/agenda/td-intimi-tickets/evenement/973-ta
 ntric-dance-intimi-utrecht-vriendenavond
END:VEVENT
BEGIN:VEVENT
UID:20260419T151629UTC-4144sLnpL0@https://tantricdance.co.uk/
DTSTAMP:20260419T151629Z
DESCRIPTION:Exclusief&nbsp\;toegankelijk voor TD INTIMI vrienden.\n19:00 ~ 
 OPEN (19:30 deur DICHT!)19:30 ~ Start &amp\; in dansen20:00 ~ Vrij dansen2
 2:30 ~ Einde\nZie intimi.tantricdance.nl voor meer info. https://tantricda
 nce.co.uk/nl/agenda/td-intimi-tickets/evenement/974-tantric-dance-intimi-u
 trecht-vriendenavond
DTSTART:20270312T183000Z
DTEND:20270312T213000Z
LOCATION:Community Overvloed (Arkansasdreef 20\, 3565 AR Utrecht)
SUMMARY:Tantric Dance INTIMI Utrecht vriendenavond
URL:https://tantricdance.co.uk/nl/agenda/td-intimi-tickets/evenement/974-ta
 ntric-dance-intimi-utrecht-vriendenavond
END:VEVENT
BEGIN:VEVENT
UID:20260419T151629UTC-4145xDTcug@https://tantricdance.co.uk/
DTSTAMP:20260419T151629Z
DESCRIPTION:Exclusief&nbsp\;toegankelijk voor TD INTIMI vrienden.\n19:00 ~ 
 OPEN (19:30 deur DICHT!)19:30 ~ Start &amp\; in dansen20:00 ~ Vrij dansen2
 2:30 ~ Einde\nZie intimi.tantricdance.nl voor meer info. https://tantricda
 nce.co.uk/nl/agenda/td-intimi-tickets/evenement/975-tantric-dance-intimi-u
 trecht-vriendenavond
DTSTART:20270409T173000Z
DTEND:20270409T203000Z
LOCATION:Community Overvloed (Arkansasdreef 20\, 3565 AR Utrecht)
SUMMARY:Tantric Dance INTIMI Utrecht vriendenavond
URL:https://tantricdance.co.uk/nl/agenda/td-intimi-tickets/evenement/975-ta
 ntric-dance-intimi-utrecht-vriendenavond
END:VEVENT
BEGIN:VEVENT
UID:20260419T151629UTC-4147luvrtF@https://tantricdance.co.uk/
DTSTAMP:20260419T151629Z
DESCRIPTION:Exclusief&nbsp\;toegankelijk voor TD INTIMI vrienden.\n19:00 ~ 
 OPEN (19:30 deur DICHT!)19:30 ~ Start &amp\; in dansen20:00 ~ Vrij dansen2
 2:30 ~ Einde\nZie intimi.tantricdance.nl voor meer info. https://tantricda
 nce.co.uk/nl/agenda/td-intimi-tickets/evenement/976-tantric-dance-intimi-u
 trecht-vriendenavond
DTSTART:20270514T173000Z
DTEND:20270514T203000Z
LOCATION:Community Overvloed (Arkansasdreef 20\, 3565 AR Utrecht)
SUMMARY:Tantric Dance INTIMI Utrecht vriendenavond
URL:https://tantricdance.co.uk/nl/agenda/td-intimi-tickets/evenement/976-ta
 ntric-dance-intimi-utrecht-vriendenavond
END:VEVENT
BEGIN:VEVENT
UID:20260419T151629UTC-4148N5o6rB@https://tantricdance.co.uk/
DTSTAMP:20260419T151629Z
DESCRIPTION:Exclusief&nbsp\;toegankelijk voor TD INTIMI vrienden.\n19:00 ~ 
 OPEN (19:30 deur DICHT!)19:30 ~ Start &amp\; in dansen20:00 ~ Vrij dansen2
 2:30 ~ Einde\nZie intimi.tantricdance.nl voor meer info. https://tantricda
 nce.co.uk/nl/agenda/td-intimi-tickets/evenement/977-tantric-dance-intimi-u
 trecht-vriendenavond
DTSTART:20270611T173000Z
DTEND:20270611T203000Z
LOCATION:Community Overvloed (Arkansasdreef 20\, 3565 AR Utrecht)
SUMMARY:Tantric Dance INTIMI Utrecht vriendenavond
URL:https://tantricdance.co.uk/nl/agenda/td-intimi-tickets/evenement/977-ta
 ntric-dance-intimi-utrecht-vriendenavond
END:VEVENT
BEGIN:VEVENT
UID:20260419T151629UTC-4149DbSWah@https://tantricdance.co.uk/
DTSTAMP:20260419T151629Z
DESCRIPTION:Alleen toegankelijk voor TD Intimi leden.Zie intimi.tantricdanc
 e.nl voor meer info. https://tantricdance.co.uk/nl/agenda/td-intimi-ticket
 s/evenement/979-tantric-dance-intimi-utrecht
DTSTART:20260927T110000Z
DTEND:20260927T150000Z
LOCATION:Danscentrum Utrecht (DCU Monseigneur) (Mgr. van de Weteringstraat 
 13A\, 3581 EA Utrecht)
SUMMARY:Tantric Dance INTIMI Utrecht
URL:https://tantricdance.co.uk/nl/agenda/td-intimi-tickets/evenement/979-ta
 ntric-dance-intimi-utrecht
END:VEVENT
BEGIN:VEVENT
UID:20260419T151629UTC-4150uAI6Vp@https://tantricdance.co.uk/
DTSTAMP:20260419T151629Z
DESCRIPTION:Exclusief toegankelijk voor wie persoonlijk is uitgenodigd.\n18
 :00 ~ Potluck19:30 ~ Start &amp\; in dansen&nbsp\;(20:00 deur DICHT!)20:00
  ~ Vrij dansen22:30 ~ Einde https://tantricdance.co.uk/nl/agenda/td-intimi
 -tickets/evenement/980-tantric-dance-intimi-reuenie-seizoen-start
DTSTART:20260911T173000Z
DTEND:20260911T203000Z
LOCATION:Community Overvloed (Arkansasdreef 20\, 3565 AR Utrecht)
SUMMARY:Tantric Dance INTIMI REÜNIE & Seizoen start
URL:https://tantricdance.co.uk/nl/agenda/td-intimi-tickets/evenement/980-ta
 ntric-dance-intimi-reuenie-seizoen-start
END:VEVENT
END:VCALENDAR
